BEGIN:VCALENDAR
VERSION:2.0
PRODID:-//C-STEM Teacher &amp; Student Support Services - ECPv6.15.20//NONSGML v1.0//EN
CALSCALE:GREGORIAN
METHOD:PUBLISH
X-WR-CALNAME:C-STEM Teacher &amp; Student Support Services
X-ORIGINAL-URL:https://www.cstem.org
X-WR-CALDESC:Events for C-STEM Teacher &amp; Student Support Services
REFRESH-INTERVAL;VALUE=DURATION:PT1H
X-Robots-Tag:noindex
X-PUBLISHED-TTL:PT1H
BEGIN:VTIMEZONE
TZID:America/Chicago
BEGIN:DAYLIGHT
TZOFFSETFROM:-0600
TZOFFSETTO:-0500
TZNAME:CDT
DTSTART:20250309T080000
END:DAYLIGHT
BEGIN:STANDARD
TZOFFSETFROM:-0500
TZOFFSETTO:-0600
TZNAME:CST
DTSTART:20251102T070000
END:STANDARD
BEGIN:DAYLIGHT
TZOFFSETFROM:-0600
TZOFFSETTO:-0500
TZNAME:CDT
DTSTART:20260308T080000
END:DAYLIGHT
BEGIN:STANDARD
TZOFFSETFROM:-0500
TZOFFSETTO:-0600
TZNAME:CST
DTSTART:20261101T070000
END:STANDARD
BEGIN:DAYLIGHT
TZOFFSETFROM:-0600
TZOFFSETTO:-0500
TZNAME:CDT
DTSTART:20270314T080000
END:DAYLIGHT
BEGIN:STANDARD
TZOFFSETFROM:-0500
TZOFFSETTO:-0600
TZNAME:CST
DTSTART:20271107T070000
END:STANDARD
END:VTIMEZONE
BEGIN:VEVENT
DTSTART;TZID=America/Chicago:20260427T070000
DTEND;TZID=America/Chicago:20260427T153000
DTSTAMP:20260422T035323
CREATED:20260224T134404Z
LAST-MODIFIED:20260224T135342Z
UID:20839-1777273200-1777303800@www.cstem.org
SUMMARY:NextGen AI & Robotics Multi-Session Presentation at Stafford Civic Center
DESCRIPTION:C-STEM is proud to present a full-day NextGen AI & Robotics experience on Monday\, April 27\, 2026\, at the Civic Center on Stafford’s campus. This large-scale event will serve 300+ students across elementary\, middle\, and high school grade levels\, with dedicated presentation sessions tailored to each audience. \nThe day will feature interactive learning\, student-centered discussion\, and grade-level engagement designed to help young learners understand the power and potential of AI and robotics. With a proposed multi-session schedule and a shared community setting\, this event reflects C-STEM’s ongoing commitment to expanding access to high-quality STEM learning opportunities for students at every stage.
URL:https://www.cstem.org/event/nextgen-ai-robotics-multi-session-presentation-at-stafford-civic-center/
LOCATION:Civic Center (located on Stafford’s campus) 1415 Constitution Avenue Stafford\, TX
ORGANIZER;CN="C-STEM":MAILTO:info@cstem.org
END:VEVENT
END:VCALENDAR